BEGIN:VCALENDAR
VERSION:2.0
PRODID:-//173.236.242.27//NONSGML kigkonsult.se iCalcreator 2.20//
CALSCALE:GREGORIAN
METHOD:PUBLISH
X-WR-TIMEZONE:America/Chicago
BEGIN:VEVENT
UID:event332@EMDSO
DTSTAMP:20260421T075338Z
CATEGORIES:Public Observing
DESCRIPTION:Big Blue Observing\nCategory: Public Observing\nLink: https://e
 mdso.org/index.php?option=com_jem&view=event&id=332:big-blue-observing\n
DTSTART;TZID=America/Chicago:20260410T193000
DTEND;TZID=America/Chicago:20260410T220000
LOCATION:Big Blue Observatory\,1401 Olive Road\,63068 New Haven\,United Sta
 tes
SUMMARY:Big Blue Observing
URL:https://emdso.org/index.php?option=com_jem&view=event&id=332:big-blue-o
 bserving
END:VEVENT
BEGIN:VEVENT
UID:event340@EMDSO
DTSTAMP:20260421T075338Z
CATEGORIES:Public Observing
DESCRIPTION:Big Blue Observing\nCategory: Public Observing\nLink: https://e
 mdso.org/index.php?option=com_jem&view=event&id=340:big-blue-observing\n
DTSTART;TZID=America/Chicago:20260417T193000
DTEND;TZID=America/Chicago:20260417T220000
LOCATION:Big Blue Observatory\,1401 Olive Road\,63068 New Haven\,United Sta
 tes
SUMMARY:Big Blue Observing
URL:https://emdso.org/index.php?option=com_jem&view=event&id=340:big-blue-o
 bserving
END:VEVENT
END:VCALENDAR