BEGIN:VCALENDAR
VERSION:2.0
PRODID:-//173.236.242.27//NONSGML kigkonsult.se iCalcreator 2.20//
CALSCALE:GREGORIAN
METHOD:PUBLISH
X-WR-TIMEZONE:America/Chicago
BEGIN:VEVENT
UID:event3@EMDSO
DTSTAMP:20260421T080353Z
CATEGORIES:Meeting
DESCRIPTION:EMDSO Meeting\nCategory: Meeting\nLink: https://emdso.org/index
 .php?option=com_jem&view=event&id=3:emdso-meeting\n
DTSTART;TZID=America/Chicago:20190727T173000
DTEND;TZID=America/Chicago:20190727T193000
LOCATION:Lewis Cafe\,145 S. Main\,63077 St. Clair
SUMMARY:EMDSO Meeting
URL:https://emdso.org/index.php?option=com_jem&view=event&id=3:emdso-meetin
 g
END:VEVENT
END:VCALENDAR