BEGIN:VCALENDAR
VERSION:2.0
PRODID:-//173.236.242.27//NONSGML kigkonsult.se iCalcreator 2.20//
CALSCALE:GREGORIAN
METHOD:PUBLISH
X-WR-TIMEZONE:America/Chicago
BEGIN:VEVENT
UID:event300@EMDSO
DTSTAMP:20260421T075124Z
CATEGORIES:Meeting
DESCRIPTION:EMDSO Meeting\nCategory: Meeting\nLink: https://emdso.org/index
 .php?option=com_jem&view=event&id=300:emdso-meeting\n
DTSTART;TZID=America/Chicago:20251115T163000
DTEND;TZID=America/Chicago:20251115T180000
LOCATION:Miller's Grill\,2301 Hwy A \,63090 Washington
SUMMARY:EMDSO Meeting
URL:https://emdso.org/index.php?option=com_jem&view=event&id=300:emdso-meet
 ing
END:VEVENT
END:VCALENDAR