BEGIN:VCALENDAR
VERSION:2.0
PRODID:-//173.236.242.27//NONSGML kigkonsult.se iCalcreator 2.20//
CALSCALE:GREGORIAN
METHOD:PUBLISH
X-WR-TIMEZONE:America/Chicago
BEGIN:VEVENT
UID:event260@EMDSO
DTSTAMP:20260420T104535Z
CATEGORIES:Meeting
DESCRIPTION:EMDSO Meeting\nCategory: Meeting\nLink: https://emdso.org/index
 .php?option=com_jem&view=event&id=260:emdso-meeting\n
DTSTART;TZID=America/Chicago:20241101T163000
DTEND;TZID=America/Chicago:20241101T183000
LOCATION:Sushi King\,95 Washington Heights Dr\,63090 Washington
SUMMARY:EMDSO Meeting
URL:https://emdso.org/index.php?option=com_jem&view=event&id=260:emdso-meet
 ing
END:VEVENT
END:VCALENDAR