BEGIN:VCALENDAR
VERSION:2.0
PRODID:-//173.236.242.27//NONSGML kigkonsult.se iCalcreator 2.20//
CALSCALE:GREGORIAN
METHOD:PUBLISH
X-WR-TIMEZONE:America/Chicago
BEGIN:VEVENT
UID:event197@EMDSO
DTSTAMP:20260422T193121Z
CATEGORIES:Public Observing
DESCRIPTION:Big Blue Observing\nCategory: Public Observing\nLink: https://e
 mdso.org/index.php?option=com_jem&view=event&id=197:big-blue-observing\n
DTSTART;TZID=America/Chicago:20230421T200000
DTEND;TZID=America/Chicago:20230421T220000
LOCATION:Big Blue Observatory\,1401 Olive Road\,63068 New Haven
SUMMARY:Big Blue Observing
URL:https://emdso.org/index.php?option=com_jem&view=event&id=197:big-blue-o
 bserving
END:VEVENT
END:VCALENDAR